BEGIN:VCALENDAR
PRODID:http://wibix.de/infusions/pro_download_panel/download.php?did=27
VERSION:2.0
METHOD:PUBLISH
BEGIN:VEVENT
DTSTART:20150526T220000Z
UID:51@http://zszalno.las.pl/
DTSTAMP:20150526T131456Z
DESCRIPTION:konkurs interdyscyplinarny, drużynowy, dla klas gimnazjalnych
SUMMARY:Konkurs powiatowy &quot;A to Polska właśnie&quot;
CLASS:PUBLIC
END:VEVENT
END:VCALENDAR
