BEGIN:VCALENDAR
PRODID:http://wibix.de/infusions/pro_download_panel/download.php?did=27
VERSION:2.0
METHOD:PUBLISH
BEGIN:VEVENT
DTSTART:20141216T230000Z
UID:50@http://zszalno.las.pl/
DTSTAMP:20141118T200105Z
DESCRIPTION:Dnia 17.12.2014 r. odbędzie się Próbny Sprawdzian szóstoklasisty z CKE.
SUMMARY:Próbny Sprawdzian szóstoklasisty z CKE
CLASS:PUBLIC
END:VEVENT
END:VCALENDAR
