BEGIN:VCALENDAR
PRODID:http://wibix.de/infusions/pro_download_panel/download.php?did=27
VERSION:2.0
METHOD:PUBLISH
BEGIN:VEVENT
DTSTART:20141009T220000Z
UID:48@http://zszalno.las.pl/
DTSTAMP:20141002T182609Z
DESCRIPTION:10.10.2014 r o 8:00. odbędzie się szkolny etap konkursu &quot;Mistrz Tabliczki Mnożenia&quot;
SUMMARY:Szkolny etap konkursu &quot;Mistrz Tabliczki Mnożenia&quot;
CLASS:PUBLIC
END:VEVENT
END:VCALENDAR
