BEGIN:VCALENDAR
PRODID:http://wibix.de/infusions/pro_download_panel/download.php?did=27
VERSION:2.0
METHOD:PUBLISH
BEGIN:VEVENT
DTSTART:20141015T220000Z
UID:46@http://zszalno.las.pl/
DTSTAMP:20141002T181502Z
DESCRIPTION:16.10.2014 r o 14:00. odbędzie się szkolny etap konkursu kuratoryjnego z geografii
SUMMARY:Konkurs kuratoryjny z geografii
CLASS:PUBLIC
END:VEVENT
END:VCALENDAR
