BEGIN:VCALENDAR
PRODID:http://wibix.de/infusions/pro_download_panel/download.php?did=27
VERSION:2.0
METHOD:PUBLISH
BEGIN:VEVENT
DTSTART:20140925T220000Z
UID:45@http://zszalno.las.pl/
DTSTAMP:20140923T190836Z
DESCRIPTION:Zapraszam uczniów klas IV – VI  szkoły podstawowej \ndo udziału w Szkolnym Konkursie\n„Mistrz Tabliczki Mnożenia”
SUMMARY:Szkolny Konkurs Matematyczny &quot;Mistrz Tabliczki Mnożenia&quot;
CLASS:PUBLIC
END:VEVENT
END:VCALENDAR
