BEGIN:VCALENDAR
PRODID:http://wibix.de/infusions/pro_download_panel/download.php?did=27
VERSION:2.0
METHOD:PUBLISH
BEGIN:VEVENT
DTSTART:20140528T220000Z
UID:43@http://zszalno.las.pl/
DTSTAMP:20140515T152623Z
DESCRIPTION:Konkurs Poezji Angielskiej dla klas IV - VI.
SUMMARY:Konkurs Poezji Angielskiej
CLASS:PUBLIC
END:VEVENT
END:VCALENDAR
