BEGIN:VCALENDAR
PRODID:http://wibix.de/infusions/pro_download_panel/download.php?did=27
VERSION:2.0
METHOD:PUBLISH
BEGIN:VEVENT
DTSTART:20140415T220000Z
UID:37@http://zszalno.las.pl/
DTSTAMP:20140330T085114Z
DESCRIPTION:Rekolekcje Wielkopostne
SUMMARY:Rekolekcje Wielkopostne
CLASS:PUBLIC
END:VEVENT
END:VCALENDAR
