BEGIN:VCALENDAR
PRODID:http://wibix.de/infusions/pro_download_panel/download.php?did=27
VERSION:2.0
METHOD:PUBLISH
BEGIN:VEVENT
DTSTART:20140331T220000Z
UID:33@http://zszalno.las.pl/
DTSTAMP:20140330T084442Z
DESCRIPTION:Sprawdzian wiadomości dla uczniów klas szóstych.
SUMMARY:Sprawdzian szóstoklasisty
CLASS:PUBLIC
END:VEVENT
END:VCALENDAR
