BEGIN:VCALENDAR
PRODID:http://wibix.de/infusions/pro_download_panel/download.php?did=27
VERSION:2.0
METHOD:PUBLISH
BEGIN:VEVENT
DTSTART:20140410T220000Z
UID:32@http://zszalno.las.pl/
DTSTAMP:20140330T084342Z
DESCRIPTION:Eliminacje powiatowe konkursu Bezpieczeństwo Ruchu Drogowego.
SUMMARY:Powiatowy konkurs BRD
CLASS:PUBLIC
END:VEVENT
END:VCALENDAR
