BEGIN:VCALENDAR
PRODID:http://wibix.de/infusions/pro_download_panel/download.php?did=27
VERSION:2.0
METHOD:PUBLISH
BEGIN:VEVENT
DTSTART:20140401T220000Z
UID:31@http://zszalno.las.pl/
DTSTAMP:20140324T153024Z
DESCRIPTION:Organizacja rundy wstępnej Turnieju Coca-cola Cup 2014 w kategorii chłopców
SUMMARY:Turniej Coca-cola Cup
CLASS:PUBLIC
END:VEVENT
END:VCALENDAR
