BEGIN:VCALENDAR
PRODID:http://wibix.de/infusions/pro_download_panel/download.php?did=27
VERSION:2.0
METHOD:PUBLISH
BEGIN:VEVENT
DTSTART:20140324T230000Z
UID:30@http://zszalno.las.pl/
DTSTAMP:20140317T154602Z
DESCRIPTION:25 marca o godzinie 17.30 - spotkanie z wychowawcami klas (wywiadówka)
SUMMARY:Wywiadówka
CLASS:PUBLIC
END:VEVENT
END:VCALENDAR
