BEGIN:VCALENDAR
PRODID:http://wibix.de/infusions/pro_download_panel/download.php?did=27
VERSION:2.0
METHOD:PUBLISH
BEGIN:VEVENT
DTSTART:20140313T230000Z
UID:29@http://zszalno.las.pl/
DTSTAMP:20140310T111919Z
DESCRIPTION:Straż Gminna w Kęsowie na terenie Zespołu Szkół w Żalnie organizuje akcję pod hasłem &quot;Razem wygramy z wypadkami&quot;.
SUMMARY:Akcja &quot;Razem wygramy z wypadkami&quot;
CLASS:PUBLIC
END:VEVENT
END:VCALENDAR
