BEGIN:VCALENDAR
PRODID:http://wibix.de/infusions/pro_download_panel/download.php?did=27
VERSION:2.0
METHOD:PUBLISH
BEGIN:VEVENT
DTSTART:20140321T230000Z
UID:28@http://zszalno.las.pl/
DTSTAMP:20140307T061913Z
DESCRIPTION:Eliminacje powiatowe turnieju piłkarskiego o Puchar Tymbarku drużyn do 12 lat w Cekcynie
SUMMARY:Powiatowe eliminacje o Puchar Tymbarku
CLASS:PUBLIC
END:VEVENT
END:VCALENDAR
