BEGIN:VCALENDAR
PRODID:http://wibix.de/infusions/pro_download_panel/download.php?did=27
VERSION:2.0
METHOD:PUBLISH
BEGIN:VEVENT
DTSTART:20140327T230000Z
UID:27@http://zszalno.las.pl/
DTSTAMP:20140305T162950Z
DESCRIPTION:Konkurs strażacki pod hasłem &quot;Młodzież zapobiega pożarom&quot; - etap powiatowy dla klas IV-VI SP oraz I-III gimnazjum.
SUMMARY:Konkurs strażacki
CLASS:PUBLIC
END:VEVENT
END:VCALENDAR
