BEGIN:VCALENDAR
PRODID:http://wibix.de/infusions/pro_download_panel/download.php?did=27
VERSION:2.0
METHOD:PUBLISH
BEGIN:VEVENT
DTSTART:20140319T230000Z
UID:25@http://zszalno.las.pl/
DTSTAMP:20140305T162549Z
DESCRIPTION:Konkurs recytatorski - etap szkolny
SUMMARY:Konkurs recytatorski
CLASS:PUBLIC
END:VEVENT
END:VCALENDAR
