BEGIN:VCALENDAR
PRODID:http://wibix.de/infusions/pro_download_panel/download.php?did=27
VERSION:2.0
METHOD:PUBLISH
BEGIN:VEVENT
DTSTART:20140317T230000Z
UID:24@http://zszalno.las.pl/
DTSTAMP:20140305T162454Z
DESCRIPTION:Konkurs recytatorski - etap klasowy
SUMMARY:Konkurs recytatorski
CLASS:PUBLIC
END:VEVENT
END:VCALENDAR
