BEGIN:VCALENDAR
PRODID:http://wibix.de/infusions/pro_download_panel/download.php?did=27
VERSION:2.0
METHOD:PUBLISH
BEGIN:VEVENT
DTSTART:20140323T230000Z
UID:23@http://zszalno.las.pl/
DTSTAMP:20140305T162207Z
DESCRIPTION:Konkurs ortograficzny - etap szkolny
SUMMARY:Konkurs ortograficzny
CLASS:PUBLIC
END:VEVENT
END:VCALENDAR
