BEGIN:VCALENDAR
PRODID:http://wibix.de/infusions/pro_download_panel/download.php?did=27
VERSION:2.0
METHOD:PUBLISH
BEGIN:VEVENT
DTSTART:20140319T230000Z
UID:22@http://zszalno.las.pl/
DTSTAMP:20140305T161400Z
DESCRIPTION:Konkurs &quot;Ptaki drapieżne - nasi sprzymierzeńcy&quot; konkurs dla klas gimnazjalnych - etap szkolny
SUMMARY:Konkurs &quot;Ptaki drapieżne&quot;
CLASS:PUBLIC
END:VEVENT
END:VCALENDAR
