BEGIN:VCALENDAR
PRODID:http://wibix.de/infusions/pro_download_panel/download.php?did=27
VERSION:2.0
METHOD:PUBLISH
BEGIN:VEVENT
DTSTART:20140324T230000Z
UID:21@http://zszalno.las.pl/
DTSTAMP:20140305T161122Z
DESCRIPTION:Międzypowiatowy konkurs biologiczno - chemiczno - fizyczny w Tucholi dla klas gimnazjalnych
SUMMARY:Międzypowiatowy konkurs przyrodniczy
CLASS:PUBLIC
END:VEVENT
END:VCALENDAR
