BEGIN:VCALENDAR
PRODID:http://wibix.de/infusions/pro_download_panel/download.php?did=27
VERSION:2.0
METHOD:PUBLISH
BEGIN:VEVENT
DTSTART:20140321T230000Z
UID:20@http://zszalno.las.pl/
DTSTAMP:20140305T160943Z
DESCRIPTION:III etap Ligi Zadaniowej
SUMMARY:Liga zadaniowa
CLASS:PUBLIC
END:VEVENT
END:VCALENDAR
