BEGIN:VCALENDAR
PRODID:http://wibix.de/infusions/pro_download_panel/download.php?did=27
VERSION:2.0
METHOD:PUBLISH
BEGIN:VEVENT
DTSTART:20140319T230000Z
UID:18@http://zszalno.las.pl/
DTSTAMP:20140304T164600Z
DESCRIPTION:Konkurs matematyczny Kangur dla klas od drugiej klasy szkoły podstawowej do klasy trzeciej gimnazjum
SUMMARY:Konkurs matematyczny Kangur
CLASS:PUBLIC
END:VEVENT
END:VCALENDAR
